BEGIN:VCALENDAR
VERSION:2.0
PRODID:-//wp-events-plugin.com//5.99912//EN
TZID:Europe/Berlin
X-WR-TIMEZONE:Europe/Berlin
BEGIN:VEVENT
UID:0-609@aalen.albverein.eu
DTSTART;TZID=Europe/Berlin:20260823T090000
DTEND;TZID=Europe/Berlin:20260823T090000
DTSTAMP:20260116T094241Z
URL:https://aalen.albverein.eu/events/zum-schopflocher-moor/
SUMMARY:Zum Schopflocher Moor
DESCRIPTION:Sonntag - schwer\n\nWegstrecke ca. 15 km\, ca. 400 Hm\n\nTreffp
 unkt 9.00 Uhr Greutplatz (Fahrgemeinschaften)\n\nWanderführung Georg Sure
 k
END:VEVENT
BEGIN:VTIMEZONE
TZID:Europe/Berlin
X-LIC-LOCATION:Europe/Berlin
BEGIN:DAYLIGHT
DTSTART:20260329T030000
TZOFFSETFROM:+0100
TZOFFSETTO:+0200
TZNAME:CEST
END:DAYLIGHT
END:VTIMEZONE
END:VCALENDAR