BEGIN:VCALENDAR
VERSION:2.0
PRODID:-//wp-events-plugin.com//5.99912//EN
TZID:Europe/Berlin
X-WR-TIMEZONE:Europe/Berlin
BEGIN:VEVENT
UID:0-607@aalen.albverein.eu
DTSTART;TZID=Europe/Berlin:20260726T103000
DTEND;TZID=Europe/Berlin:20260726T103000
DTSTAMP:20260116T093544Z
URL:https://aalen.albverein.eu/events/zum-gaensbergfest-waldhausen/
SUMMARY:Zum Gänsbergfest Waldhausen
DESCRIPTION:Sonntag\n\nWegstrecke ca. 8 km\n\nTreffpunkt 10.30 Uhr Greutpla
 tz (Fahrgemeinschaften\n\nWanderführung Hiltrud Bader-Fachet\n\n---------
 -----------------------------\n\nRadtour zum Gänsbergfest mit Georg Surek
 \, Details folgen!\n\n&nbsp\;\n\n&nbsp\;
END:VEVENT
BEGIN:VTIMEZONE
TZID:Europe/Berlin
X-LIC-LOCATION:Europe/Berlin
BEGIN:DAYLIGHT
DTSTART:20260329T030000
TZOFFSETFROM:+0100
TZOFFSETTO:+0200
TZNAME:CEST
END:DAYLIGHT
END:VTIMEZONE
END:VCALENDAR