BEGIN:VCALENDAR
VERSION:2.0
PRODID:-//wp-events-plugin.com//5.99912//EN
TZID:Europe/Berlin
X-WR-TIMEZONE:Europe/Berlin
BEGIN:VEVENT
UID:0-612@aalen.albverein.eu
DTSTART;TZID=Europe/Berlin:20261004T093000
DTEND;TZID=Europe/Berlin:20261004T093000
DTSTAMP:20260116T095029Z
URL:https://aalen.albverein.eu/events/zum-burgberg-oberspeltbach-bei-crail
 sheim-2/
SUMMARY:Zum Burgberg Oberspeltbach bei Crailsheim
DESCRIPTION:Sonntag - mittel\n\nWegstrecke ca. 10 km\, ca. 110 Hm\n\nTreffp
 unkt 9.30 Uhr Greutplatz (Fahrgemeinschaften) Fahrzeit ca. 1 Std.\n\nWande
 rführung Georg Surek
END:VEVENT
BEGIN:VTIMEZONE
TZID:Europe/Berlin
X-LIC-LOCATION:Europe/Berlin
BEGIN:DAYLIGHT
DTSTART:20260329T030000
TZOFFSETFROM:+0100
TZOFFSETTO:+0200
TZNAME:CEST
END:DAYLIGHT
END:VTIMEZONE
END:VCALENDAR