BEGIN:VCALENDAR
VERSION:2.0
PRODID:-//wp-events-plugin.com//5.99912//EN
TZID:Europe/Berlin
X-WR-TIMEZONE:Europe/Berlin
BEGIN:VEVENT
UID:0-599@aalen.albverein.eu
DTSTART;TZID=Europe/Berlin:20260510T093000
DTEND;TZID=Europe/Berlin:20260510T093000
DTSTAMP:20260114T094606Z
URL:https://aalen.albverein.eu/events/zu-den-autalwasserfaellen-in-bad-ueb
 erkingen/
SUMMARY:Zu den Autalwasserfällen in Bad Überkingen
DESCRIPTION:Sonntag - mittel\n\nWegstrecke ca. 12 km\, ca. 270 Hm\n\nTreffp
 unkt 9.30 Uhr Greutplatz (Fahrgemeinschaften)\n\nWanderführung Georg Sure
 k
END:VEVENT
BEGIN:VTIMEZONE
TZID:Europe/Berlin
X-LIC-LOCATION:Europe/Berlin
BEGIN:DAYLIGHT
DTSTART:20260329T030000
TZOFFSETFROM:+0100
TZOFFSETTO:+0200
TZNAME:CEST
END:DAYLIGHT
END:VTIMEZONE
END:VCALENDAR