BEGIN:VCALENDAR
VERSION:2.0
PRODID:-//wp-events-plugin.com//5.99912//EN
TZID:Europe/Berlin
X-WR-TIMEZONE:Europe/Berlin
BEGIN:VEVENT
UID:0-616@aalen.albverein.eu
DTSTART;TZID=Europe/Berlin:20261122T000000
DTEND;TZID=Europe/Berlin:20261122T000000
DTSTAMP:20260117T093116Z
URL:https://aalen.albverein.eu/events/weinwanderung-im-remstal-2/
SUMMARY:Weinwanderung im Remstal
DESCRIPTION:Sonntag\n\nNäheres s. Presse und Verteiler\n\nWanderführung H
 iltrud Bader-Fachet
END:VEVENT
BEGIN:VTIMEZONE
TZID:Europe/Berlin
X-LIC-LOCATION:Europe/Berlin
BEGIN:STANDARD
DTSTART:20261025T020000
TZOFFSETFROM:+0200
TZOFFSETTO:+0100
TZNAME:CET
END:STANDARD
END:VTIMEZONE
END:VCALENDAR