BEGIN:VCALENDAR
VERSION:2.0
PRODID:-//wp-events-plugin.com//5.99912//EN
TZID:Europe/Berlin
X-WR-TIMEZONE:Europe/Berlin
BEGIN:VEVENT
UID:0-613@aalen.albverein.eu
DTSTART;TZID=Europe/Berlin:20261011T095000
DTEND;TZID=Europe/Berlin:20261011T095000
DTSTAMP:20260116T095359Z
URL:https://aalen.albverein.eu/events/wanderung-um-winterbach/
SUMMARY:Wanderung um Winterbach
DESCRIPTION:Sonntag - leicht\n\nBesuch des Heimatmuseums\, Wegstrecke ca. 8
  km\, mit Anmeldung.\n\nTreffpunkt 9.50 Uhr Hbf Aalen\n\nWanderführung Hi
 ltrud Bader-Fachet
END:VEVENT
BEGIN:VTIMEZONE
TZID:Europe/Berlin
X-LIC-LOCATION:Europe/Berlin
BEGIN:DAYLIGHT
DTSTART:20260329T030000
TZOFFSETFROM:+0100
TZOFFSETTO:+0200
TZNAME:CEST
END:DAYLIGHT
END:VTIMEZONE
END:VCALENDAR