BEGIN:VCALENDAR
VERSION:2.0
PRODID:-//wp-events-plugin.com//5.99912//EN
TZID:Europe/Berlin
X-WR-TIMEZONE:Europe/Berlin
BEGIN:VEVENT
UID:0-601@aalen.albverein.eu
DTSTART;TZID=Europe/Berlin:20260525T095000
DTEND;TZID=Europe/Berlin:20260525T095000
DTSTAMP:20260114T095117Z
URL:https://aalen.albverein.eu/events/von-lorch-zum-waescherschloessle/
SUMMARY:Von Lorch zum Wäscherschlössle
DESCRIPTION:Pfingstmontag - mittel\n\nmit Führung\, Wegstrecke ca. 15 km\,
  ca. 170 Hm\n\nTreffpunkt 9.50 Uhr Hbf Aalen\n\nWanderführung Hiltrud Bad
 er-Fachet
END:VEVENT
BEGIN:VTIMEZONE
TZID:Europe/Berlin
X-LIC-LOCATION:Europe/Berlin
BEGIN:DAYLIGHT
DTSTART:20260329T030000
TZOFFSETFROM:+0100
TZOFFSETTO:+0200
TZNAME:CEST
END:DAYLIGHT
END:VTIMEZONE
END:VCALENDAR