BEGIN:VCALENDAR
VERSION:2.0
PRODID:-//wp-events-plugin.com//5.99912//EN
TZID:Europe/Berlin
X-WR-TIMEZONE:Europe/Berlin
BEGIN:VEVENT
UID:0-598@aalen.albverein.eu
DTSTART;TZID=Europe/Berlin:20260426T073000
DTEND;TZID=Europe/Berlin:20260426T073000
DTSTAMP:20260413T083221Z
URL:https://aalen.albverein.eu/events/vogelkundliche-wanderung-am-kocher/
SUMMARY:Vogelkundliche Wanderung am Kocher
DESCRIPTION:Sonntag - leicht\n\nTreffpunkt Sonntag\, 26.04.26 um 7.30 Uhr a
 m Greutplatz oder um 8.00 Uhr morgens auf den Normaparkplatz in Hüttlinge
 n. Unser Spaziergang führt uns am Kocher entlang\, auf dem Kocherradweg b
 is zur Brücke Niederalfingen. Der Weg ist eben und ohne Steigung.\n\nEs i
 st von einer Beobachtungszeit von 2 bis 3 Stunden aus zu gehen.\n\nWo Wass
 er ist\, ist auch mit einer artenreichen Vogelwelt zu rechnen.\n\nAm Uferb
 ereich wurden über Jahre diverse Nisthöhlen in den Bäumen angebracht\, 
 deren Besatz beobachtet werden kann.\n\nVon Amsel bis Zaunkönig ist einig
 es zu entdecken. Besondere Raritäten sind die Wasseramseln und der Eisvog
 el. Ein Fernglas sollte mitgebracht werden.\n\nNach der Kocher Überquerun
 g bei Niederalfingen machen wir noch einen Abstecher zu einer Streuobstwie
 se. Wanderführer Thomas Mönnig.\n\n&nbsp\;
END:VEVENT
BEGIN:VTIMEZONE
TZID:Europe/Berlin
X-LIC-LOCATION:Europe/Berlin
BEGIN:DAYLIGHT
DTSTART:20260329T030000
TZOFFSETFROM:+0100
TZOFFSETTO:+0200
TZNAME:CEST
END:DAYLIGHT
END:VTIMEZONE
END:VCALENDAR