BEGIN:VCALENDAR
VERSION:2.0
PRODID:-//wp-events-plugin.com//5.99912//EN
TZID:Europe/Berlin
X-WR-TIMEZONE:Europe/Berlin
BEGIN:VEVENT
UID:0-611@aalen.albverein.eu
DTSTART;TZID=Europe/Berlin:20260927T160000
DTEND;TZID=Europe/Berlin:20260927T160000
DTSTAMP:20260116T094742Z
URL:https://aalen.albverein.eu/events/sonnenuntergang-auf-dem-ipf/
SUMMARY:Sonnenuntergang auf dem Ipf
DESCRIPTION:Sonntag - mittel\n\nWegstrecke ca. 12 km\, ca. 180 Hm\n\nTreffp
 unkt 16.00 Uhr Greutplatz (Fahrgemeinschaften)\n\nWanderführung Georg Sur
 ek
END:VEVENT
BEGIN:VTIMEZONE
TZID:Europe/Berlin
X-LIC-LOCATION:Europe/Berlin
BEGIN:DAYLIGHT
DTSTART:20260329T030000
TZOFFSETFROM:+0100
TZOFFSETTO:+0200
TZNAME:CEST
END:DAYLIGHT
END:VTIMEZONE
END:VCALENDAR