BEGIN:VCALENDAR
VERSION:2.0
PRODID:-//wp-events-plugin.com//5.99912//EN
TZID:Europe/Berlin
X-WR-TIMEZONE:Europe/Berlin
BEGIN:VEVENT
UID:0-615@aalen.albverein.eu
DTSTART;TZID=Europe/Berlin:20261108T090000
DTEND;TZID=Europe/Berlin:20261108T090000
DTSTAMP:20260117T092958Z
URL:https://aalen.albverein.eu/events/rund-um-den-rosenstein/
SUMMARY:Rund um den Rosenstein
DESCRIPTION:Sonntag - schwer\n\nWegstrecke ca. 15 km\, ca. 270 Hm\n\nTreffp
 unkt 9.00 Uhr Greutplatz (Fahrgemeinschaften)\n\nWanderführung Georg Sure
 k
END:VEVENT
BEGIN:VTIMEZONE
TZID:Europe/Berlin
X-LIC-LOCATION:Europe/Berlin
BEGIN:STANDARD
DTSTART:20261025T020000
TZOFFSETFROM:+0200
TZOFFSETTO:+0100
TZNAME:CET
END:STANDARD
END:VTIMEZONE
END:VCALENDAR