BEGIN:VCALENDAR
VERSION:2.0
PRODID:-//wp-events-plugin.com//5.99912//EN
TZID:Europe/Berlin
X-WR-TIMEZONE:Europe/Berlin
BEGIN:VEVENT
UID:0-627@aalen.albverein.eu
DTSTART;TZID=Europe/Berlin:20260502T100000
DTEND;TZID=Europe/Berlin:20260502T100000
DTSTAMP:20260413T085251Z
URL:https://aalen.albverein.eu/events/neu-fahrrad-sternfahrt-nach-abtsgmue
 nd/
SUMMARY:Neu: Fahrrad-Sternfahrt nach Abtsgmünd
DESCRIPTION:Radsternfahrt nach Abtsgmünd (Wanderheim) am Samstag \n \nTr
 effpunkt:10:00 Uhr Greutplatz \nLänge der Tour ca. 50 km\, ca.150 Hm auf
  und ab.\nDauer mit Pause und Austausch ca. 5-6 Std.\nVehrkehrssicheres E-
 Bike\, Helm\, Akku geladen\, Getränke erforderlich.\n \nWir radeln vom G
 reutplatz über die Dürrwiesen zum Bädle Unterrombach-\nHahnenberg-Schwa
 lbenhof-Kolbenhof-Sixenhof-Lusthof-Holzleuten-\nHeuchlingen-Leintalradweg 
 nach Abtsgmünd zum Wanderheim.\nDort Treffen mit verschiedenen Radgruppen
  aus den Ortsgruppen\nzum Austausch und Mittagessen. Ab ca.15:30 Uhr radel
 n wir über\nFachsenfeld-Dewangen-Hammerstadt-Affalterried-Rohrwang \nzur
 ück zum Ausgangspunkt.\nAuf eine "Schöne Radtour" freut sich Georg.\nInt
 eressierte bitte anmelden bis zum 26. 3. bei Georg unter 07361/8131958 ode
 r georg.surek@gmx.de. (auch wenn eure Teilnahme noch nicht ganz sicher ist
 . Besser eine Wurst zuviel eingekauft als dass jemand OHNE heimfahren muss
 !)\n\n&nbsp\;\n\n&nbsp\;
END:VEVENT
BEGIN:VTIMEZONE
TZID:Europe/Berlin
X-LIC-LOCATION:Europe/Berlin
BEGIN:DAYLIGHT
DTSTART:20260329T030000
TZOFFSETFROM:+0100
TZOFFSETTO:+0200
TZNAME:CEST
END:DAYLIGHT
END:VTIMEZONE
END:VCALENDAR