BEGIN:VCALENDAR
VERSION:2.0
PRODID:-//wp-events-plugin.com//5.99912//EN
TZID:Europe/Berlin
X-WR-TIMEZONE:Europe/Berlin
BEGIN:VEVENT
UID:0-614@aalen.albverein.eu
DTSTART;TZID=Europe/Berlin:20261018T140000
DTEND;TZID=Europe/Berlin:20261018T140000
DTSTAMP:20260116T102156Z
URL:https://aalen.albverein.eu/events/literatour-zum-herbstlichen-haesle/
SUMMARY:LiteraTour zum herbstlichen Häsle
DESCRIPTION:Sonntag - leicht\n\nTreffpunkt 14.00 Uhr Greutplatz\, Näheres 
 s. Presse und hier
END:VEVENT
BEGIN:VTIMEZONE
TZID:Europe/Berlin
X-LIC-LOCATION:Europe/Berlin
BEGIN:DAYLIGHT
DTSTART:20260329T030000
TZOFFSETFROM:+0100
TZOFFSETTO:+0200
TZNAME:CEST
END:DAYLIGHT
END:VTIMEZONE
END:VCALENDAR