BEGIN:VCALENDAR
VERSION:2.0
PRODID:-//wp-events-plugin.com//5.99912//EN
TZID:Europe/Berlin
X-WR-TIMEZONE:Europe/Berlin
BEGIN:VEVENT
UID:0-604@aalen.albverein.eu
DTSTART;TZID=Europe/Berlin:20260515T130000
DTEND;TZID=Europe/Berlin:20260515T130000
DTSTAMP:20260114T095929Z
URL:https://aalen.albverein.eu/events/freitagswanderung-vom-vierwegzeiger-
 zum-baierstein/
SUMMARY:Freitagswanderung: Vom Vierwegzeiger zum Baierstein
DESCRIPTION:Freitag - eine Kooperation SAV Aalen und Begegnungsstätte Bür
 gerspital\n\nWegstrecke ca. 6 km\n\nTreffpunkt 13.00 Uhr Greutplatz (Fahrg
 emeinschaften)\n\nWanderführung Christine Tunda
END:VEVENT
BEGIN:VTIMEZONE
TZID:Europe/Berlin
X-LIC-LOCATION:Europe/Berlin
BEGIN:DAYLIGHT
DTSTART:20260329T030000
TZOFFSETFROM:+0100
TZOFFSETTO:+0200
TZNAME:CEST
END:DAYLIGHT
END:VTIMEZONE
END:VCALENDAR