BEGIN:VCALENDAR
VERSION:2.0
PRODID:-//wp-events-plugin.com//5.99912//EN
TZID:Europe/Berlin
X-WR-TIMEZONE:Europe/Berlin
BEGIN:VEVENT
UID:0-619@aalen.albverein.eu
DTSTART;TZID=Europe/Berlin:20260717T130000
DTEND;TZID=Europe/Berlin:20260717T130000
DTSTAMP:20260117T094013Z
URL:https://aalen.albverein.eu/events/freitagswanderung-durch-den-rohrwang
 -zur-shw-ofenplattensammlung/
SUMMARY:Freitagswanderung: Durch den Rohrwang zur SHW-Ofenplattensammlung
DESCRIPTION:Freitag - Eine Kooperation SAV Aalen und Begegnungsstätte Bür
 gerspital\n\nWegstrecke ca. 6 km\n\nTreffpunkt 13.00 Uhr Greutplatz\n\nWan
 derführung Ute Hommel
END:VEVENT
BEGIN:VTIMEZONE
TZID:Europe/Berlin
X-LIC-LOCATION:Europe/Berlin
BEGIN:DAYLIGHT
DTSTART:20260329T030000
TZOFFSETFROM:+0100
TZOFFSETTO:+0200
TZNAME:CEST
END:DAYLIGHT
END:VTIMEZONE
END:VCALENDAR