BEGIN:VCALENDAR
VERSION:2.0
PRODID:-//wp-events-plugin.com//5.99912//EN
TZID:Europe/Berlin
X-WR-TIMEZONE:Europe/Berlin
BEGIN:VEVENT
UID:0-620@aalen.albverein.eu
DTSTART;TZID=Europe/Berlin:20260821T130000
DTEND;TZID=Europe/Berlin:20260821T130000
DTSTAMP:20260117T095845Z
URL:https://aalen.albverein.eu/events/freitagswanderung-auf-dem-jakobswegl
 e-zur-charlottenhoehle/
SUMMARY:Freitagswanderung: Auf dem Jakobswegle zur Charlottenhöhle
DESCRIPTION:Freitag - Eine Kooperation SAV Aalen und Begegnungsstätte Bür
 gerspital\n\nWegstrecke ca. 4\,5 km\n\nTreffpunkt 13.00 Uhr Greutplatz (Fa
 hrgemeinschaften)\n\nWanderführung Georg Surek
END:VEVENT
BEGIN:VTIMEZONE
TZID:Europe/Berlin
X-LIC-LOCATION:Europe/Berlin
BEGIN:DAYLIGHT
DTSTART:20260329T030000
TZOFFSETFROM:+0100
TZOFFSETTO:+0200
TZNAME:CEST
END:DAYLIGHT
END:VTIMEZONE
END:VCALENDAR