BEGIN:VCALENDAR
VERSION:2.0
PRODID:-//wp-events-plugin.com//5.99912//EN
TZID:Europe/Berlin
X-WR-TIMEZONE:Europe/Berlin
BEGIN:VEVENT
UID:0-623@aalen.albverein.eu
DTSTART;TZID=Europe/Berlin:20261120T130000
DTEND;TZID=Europe/Berlin:20261120T130000
DTSTAMP:20260117T100520Z
URL:https://aalen.albverein.eu/events/freitagswanderung-auf-dem-heckenlehr
 pfad-ins-naturfreundehaus-am-brand/
SUMMARY:Freitagswanderung: Auf dem Heckenlehrpfad ins Naturfreundehaus am B
 rand
DESCRIPTION:Freitagswanderung - Eine Kooperation SAV Aalen und Begegnungsst
 ätte Bürgerspital\n\nWegstrecke ca. 6 km\n\nTreffpunkt 13.00 Uhr Greutpl
 atz\n\nWanderführung Ute Hommel
END:VEVENT
BEGIN:VTIMEZONE
TZID:Europe/Berlin
X-LIC-LOCATION:Europe/Berlin
BEGIN:STANDARD
DTSTART:20261025T020000
TZOFFSETFROM:+0200
TZOFFSETTO:+0100
TZNAME:CET
END:STANDARD
END:VTIMEZONE
END:VCALENDAR