BEGIN:VCALENDAR
VERSION:2.0
PRODID:-//wp-events-plugin.com//5.99912//EN
TZID:Europe/Berlin
X-WR-TIMEZONE:Europe/Berlin
BEGIN:VEVENT
UID:0-621@aalen.albverein.eu
DTSTART;TZID=Europe/Berlin:20260917T130000
DTEND;TZID=Europe/Berlin:20260917T130000
DTSTAMP:20260117T100115Z
URL:https://aalen.albverein.eu/events/freitagswanderung-am-donnerstag-rund
 -um-den-rosenstein/
SUMMARY:Freitagswanderung am Donnerstag: Rund um den Rosenstein
DESCRIPTION:Donnerstag - Eine Kooperation SAV Aalen und Begegnungsstätte B
 ürgerspital\n\nWegstrecke ca. 7 km\n\nTreffpunkt 13.00 Uhr Greutplatz (Fa
 hrgemeinschaften)\n\nWanderführung Ute Hommel und Wolfgang Stall
END:VEVENT
BEGIN:VTIMEZONE
TZID:Europe/Berlin
X-LIC-LOCATION:Europe/Berlin
BEGIN:DAYLIGHT
DTSTART:20260329T030000
TZOFFSETFROM:+0100
TZOFFSETTO:+0200
TZNAME:CEST
END:DAYLIGHT
END:VTIMEZONE
END:VCALENDAR