BEGIN:VCALENDAR
VERSION:2.0
PRODID:-//wp-events-plugin.com//5.99912//EN
TZID:Europe/Berlin
X-WR-TIMEZONE:Europe/Berlin
BEGIN:VEVENT
UID:0-624@aalen.albverein.eu
DTSTART;TZID=Europe/Berlin:20261218T130000
DTEND;TZID=Europe/Berlin:20261218T130000
DTSTAMP:20260117T100800Z
URL:https://aalen.albverein.eu/events/freitagswanderung-adventsweg-espachw
 eiler/
SUMMARY:Freitagswanderung: Adventsweg Espachweiler
DESCRIPTION:Freitag - Eine Kooperation SAV Aalen und Begegnungsstätte Bür
 gerspital\n\nWegstrecke ca. 6\,5 km\n\nTreffpunkt 13.00 Uhr Greutplatz (Fa
 hrgemeinschaften)\n\nWanderführung Christine Tunda
END:VEVENT
BEGIN:VTIMEZONE
TZID:Europe/Berlin
X-LIC-LOCATION:Europe/Berlin
BEGIN:STANDARD
DTSTART:20261025T020000
TZOFFSETFROM:+0200
TZOFFSETTO:+0100
TZNAME:CET
END:STANDARD
END:VTIMEZONE
END:VCALENDAR