BEGIN:VCALENDAR
VERSION:2.0
PRODID:-//wp-events-plugin.com//5.99912//EN
TZID:Europe/Berlin
X-WR-TIMEZONE:Europe/Berlin
BEGIN:VEVENT
UID:0-594@aalen.albverein.eu
DTSTART;TZID=Europe/Berlin:20261018T150000
DTEND;TZID=Europe/Berlin:20261018T150000
DTSTAMP:20260114T092628Z
URL:https://aalen.albverein.eu/events/familiengruppe-wanderung-um-den-saeg
 weiher/
SUMMARY:Familiengruppe: Wanderung um den Sägweiher
DESCRIPTION:Sonntag\n\nBacken von Baumstrietzel am Lagerfeuer\n\nTreffpunkt
  15.00 Uhr Wanderparkplatz Sägweiher in Espachweiler\n\nFam. Miladinovic\
 , Details folgen!\n\n&nbsp\;
END:VEVENT
BEGIN:VTIMEZONE
TZID:Europe/Berlin
X-LIC-LOCATION:Europe/Berlin
BEGIN:DAYLIGHT
DTSTART:20260329T030000
TZOFFSETFROM:+0100
TZOFFSETTO:+0200
TZNAME:CEST
END:DAYLIGHT
END:VTIMEZONE
END:VCALENDAR