BEGIN:VCALENDAR
VERSION:2.0
PRODID:-//wp-events-plugin.com//5.99912//EN
TZID:Europe/Berlin
X-WR-TIMEZONE:Europe/Berlin
BEGIN:VEVENT
UID:0-626@aalen.albverein.eu
DTSTART;TZID=Europe/Berlin:20261222T170000
DTEND;TZID=Europe/Berlin:20261222T170000
DTSTAMP:20260128T095639Z
URL:https://aalen.albverein.eu/events/familiengruppe-waldweihnacht-4/
SUMMARY:Familiengruppe: Waldweihnacht
DESCRIPTION:Dienstag\n\nTreffpunkt Parkplatz am Langert\, 17.00 Uhr\, Detai
 ls folgen!\n\nFam. Nar
END:VEVENT
BEGIN:VTIMEZONE
TZID:Europe/Berlin
X-LIC-LOCATION:Europe/Berlin
BEGIN:STANDARD
DTSTART:20261025T020000
TZOFFSETFROM:+0200
TZOFFSETTO:+0100
TZNAME:CET
END:STANDARD
END:VTIMEZONE
END:VCALENDAR