BEGIN:VCALENDAR
VERSION:2.0
PRODID:-//wp-events-plugin.com//5.99912//EN
TZID:Europe/Berlin
X-WR-TIMEZONE:Europe/Berlin
BEGIN:VEVENT
UID:0-592@aalen.albverein.eu
DTSTART;TZID=Europe/Berlin:20260718T193000
DTEND;TZID=Europe/Berlin:20260718T193000
DTSTAMP:20260114T092204Z
URL:https://aalen.albverein.eu/events/familiengruppe-sternenabend/
SUMMARY:Familiengruppe: Sternenabend
DESCRIPTION:Samstag\n\nTreffpunkt 19.30 Uhr Garten der Kolpingfamilie\n\nFa
 m. Schmid\, Details folgen!
END:VEVENT
BEGIN:VTIMEZONE
TZID:Europe/Berlin
X-LIC-LOCATION:Europe/Berlin
BEGIN:DAYLIGHT
DTSTART:20260329T030000
TZOFFSETFROM:+0100
TZOFFSETTO:+0200
TZNAME:CEST
END:DAYLIGHT
END:VTIMEZONE
END:VCALENDAR