BEGIN:VCALENDAR
VERSION:2.0
PRODID:-//wp-events-plugin.com//5.99912//EN
TZID:Europe/Berlin
X-WR-TIMEZONE:Europe/Berlin
BEGIN:VEVENT
UID:0-595@aalen.albverein.eu
DTSTART;TZID=Europe/Berlin:20261114T163000
DTEND;TZID=Europe/Berlin:20261114T163000
DTSTAMP:20260114T092833Z
URL:https://aalen.albverein.eu/events/familiengruppe-laternenlauf-2/
SUMMARY:Familiengruppe: Laternenlauf
DESCRIPTION:Samstag\n\nTreffpunkt 16.30 Uhr Hirschbachstr. 70\, Aalen (bei 
 Sonja)\n\nFam. Hong\, Details folgen!
END:VEVENT
BEGIN:VTIMEZONE
TZID:Europe/Berlin
X-LIC-LOCATION:Europe/Berlin
BEGIN:STANDARD
DTSTART:20261025T020000
TZOFFSETFROM:+0200
TZOFFSETTO:+0100
TZNAME:CET
END:STANDARD
END:VTIMEZONE
END:VCALENDAR