BEGIN:VCALENDAR
VERSION:2.0
PRODID:-//wp-events-plugin.com//5.99912//EN
TZID:Europe/Berlin
X-WR-TIMEZONE:Europe/Berlin
BEGIN:VEVENT
UID:0-593@aalen.albverein.eu
DTSTART;TZID=Europe/Berlin:20260927T000000
DTEND;TZID=Europe/Berlin:20260927T000000
DTSTAMP:20260114T092327Z
URL:https://aalen.albverein.eu/events/familiengruppe-herbstwanderung/
SUMMARY:Familiengruppe: Herbstwanderung
DESCRIPTION:Sonntag\n\nInfos per Mail und Presse\n\nFam. Schmid
END:VEVENT
BEGIN:VTIMEZONE
TZID:Europe/Berlin
X-LIC-LOCATION:Europe/Berlin
BEGIN:DAYLIGHT
DTSTART:20260329T030000
TZOFFSETFROM:+0100
TZOFFSETTO:+0200
TZNAME:CEST
END:DAYLIGHT
END:VTIMEZONE
END:VCALENDAR