BEGIN:VCALENDAR
VERSION:2.0
PRODID:-//wp-events-plugin.com//5.99912//EN
TZID:Europe/Berlin
X-WR-TIMEZONE:Europe/Berlin
BEGIN:VEVENT
UID:0-591@aalen.albverein.eu
DTSTART;TZID=Europe/Berlin:20260704T000000
DTEND;TZID=Europe/Berlin:20260705T000000
DTSTAMP:20260219T094956Z
URL:https://aalen.albverein.eu/events/familiengruppe-familienfreizeit-wass
 erberghaus-bad-ueberkingen/
SUMMARY:Familiengruppe: Familienfreizeit Wasserberghaus\, Bad Überkingen
DESCRIPTION:Samstag/Sonntag\nLiebe Familien\, \n \nam Wochenende 4./5. Ju
 li 2026 findet unsere diesjährige Familienfreizeit statt. Wir übernachte
 n dieses Mal im Wasserberghaus bei Schlat / Gingen an der Fils. Mit dem Zu
 g fahren wir bis Gingen an der Fils und wandern dann durch Wacholderheiden
  zum Wasserberghaus. Das persönliche Gepäck muss zwar jeder selbst mitne
 hmen\, aber das Wasserberghaus ist bewirtschaftet\, sodass wir es uns dort
  gutgehen lassen können. Weitere Infos zur Freizeit siehe Seite Familieng
 ruppe.\nIch habe 17 Betten vorreserviert (1 Fünf-\, 1 Vier- und 4x 2-Bett
 -Zimmer). \nBitte meldet euch bis 1. März bei mir an\, wenn ihr mitkommen
  möchtet! \nAnmeldungen an: t.nar@web.de\n \nLiebe Grüße!\nTeresa\n 
 \n \n
END:VEVENT
BEGIN:VTIMEZONE
TZID:Europe/Berlin
X-LIC-LOCATION:Europe/Berlin
BEGIN:DAYLIGHT
DTSTART:20260329T030000
TZOFFSETFROM:+0100
TZOFFSETTO:+0200
TZNAME:CEST
END:DAYLIGHT
END:VTIMEZONE
END:VCALENDAR