BEGIN:VCALENDAR
VERSION:2.0
PRODID:-//wp-events-plugin.com//5.99912//EN
TZID:Europe/Berlin
X-WR-TIMEZONE:Europe/Berlin
BEGIN:VEVENT
UID:0-617@aalen.albverein.eu
DTSTART;TZID=Europe/Berlin:20261204T180000
DTEND;TZID=Europe/Berlin:20261204T180000
DTSTAMP:20260117T093403Z
URL:https://aalen.albverein.eu/events/bunter-abend-3/
SUMMARY:Bunter Abend
DESCRIPTION:Einlass um 17.00 Uhr\, Beginn 18.00 Uhr\n\nSängerheim Aalen-Ho
 fherrnweiler
LOCATION:Vereinsheim Sängerkranz Hofherrnweiler\, Hofherrnstr. 47\, Aalen\
 , Deutschland
GEO:48.83488999999999;10.064139999999952
X-APPLE-STRUCTURED-LOCATION;VALUE=URI;X-ADDRESS=Hofherrnstr. 47\, Aalen\, D
 eutschland;X-APPLE-RADIUS=100;X-TITLE=Vereinsheim Sängerkranz Hofherrnwei
 ler:geo:48.83488999999999,10.064139999999952
END:VEVENT
BEGIN:VTIMEZONE
TZID:Europe/Berlin
X-LIC-LOCATION:Europe/Berlin
BEGIN:STANDARD
DTSTART:20261025T020000
TZOFFSETFROM:+0200
TZOFFSETTO:+0100
TZNAME:CET
END:STANDARD
END:VTIMEZONE
END:VCALENDAR