BEGIN:VCALENDAR
VERSION:2.0
PRODID:-//wp-events-plugin.com//5.99912//EN
TZID:Europe/Berlin
X-WR-TIMEZONE:Europe/Berlin
BEGIN:VEVENT
UID:0-602@aalen.albverein.eu
DTSTART;TZID=Europe/Berlin:20260607T000000
DTEND;TZID=Europe/Berlin:20260607T000000
DTSTAMP:20260114T095320Z
URL:https://aalen.albverein.eu/events/besuch-eines-bauernhofs-in-unterriff
 ingen/
SUMMARY:Besuch eines Bauernhofs in Unterriffingen
DESCRIPTION:Sonntag\n\nNäheres s. Mail und Presse\n\nWanderführung Edmils
 on Serejo
END:VEVENT
BEGIN:VTIMEZONE
TZID:Europe/Berlin
X-LIC-LOCATION:Europe/Berlin
BEGIN:DAYLIGHT
DTSTART:20260329T030000
TZOFFSETFROM:+0100
TZOFFSETTO:+0200
TZNAME:CEST
END:DAYLIGHT
END:VTIMEZONE
END:VCALENDAR