BEGIN:VCALENDAR
VERSION:2.0
PRODID:-//wp-events-plugin.com//5.99912//EN
TZID:Europe/Berlin
X-WR-TIMEZONE:Europe/Berlin
BEGIN:VEVENT
UID:0-605@aalen.albverein.eu
DTSTART;TZID=Europe/Berlin:20260621T100000
DTEND;TZID=Europe/Berlin:20260621T100000
DTSTAMP:20260116T092931Z
URL:https://aalen.albverein.eu/events/besuch-beim-sommerfest-der-og-dewang
 en/
SUMMARY:Besuch beim Sommerfest der OG Dewangen
DESCRIPTION:Sonntag - mittel\n\nWegstrecke ca. 10 km\, ca. 80 Hm\n\nTreffpu
 nkt 10.00 Uhr Hbf Aalen\n\nWanderführung Georg Surek
END:VEVENT
BEGIN:VTIMEZONE
TZID:Europe/Berlin
X-LIC-LOCATION:Europe/Berlin
BEGIN:DAYLIGHT
DTSTART:20260329T030000
TZOFFSETFROM:+0100
TZOFFSETTO:+0200
TZNAME:CEST
END:DAYLIGHT
END:VTIMEZONE
END:VCALENDAR